BEGIN:VCALENDAR
PRODID:-//eluceo/ical//2.0/EN
VERSION:2.0
CALSCALE:GREGORIAN
BEGIN:VEVENT
UID:0efaeacb4ae0101812c417a785722b04
DTSTAMP:20260424T152945Z
SUMMARY:AJCC Preschool Staff Appreciation Week
DESCRIPTION:The Knoxville Jewish Alliance\nThe Knoxville Jewish Alliance Ca
 lendar\nhttps://jewishknoxville.org/calendar/ajcc-preschool-staff-apprecia
 tion-week-235688\n\nAJCC Preschool\n\nStaff Appreciation Week
DTSTART;TZID=America/New_York:20180430T000000
DTEND;TZID=America/New_York:20180504T000000
END:VEVENT
END:VCALENDAR
