BEGIN:VCALENDAR
PRODID:-//eluceo/ical//2.0/EN
VERSION:2.0
CALSCALE:GREGORIAN
BEGIN:VEVENT
UID:744f3ab559319e97c414f034e0a6a1d1
DTSTAMP:20260423T215833Z
SUMMARY:AJCC/KJA Offices CLOSED - Christmas
DESCRIPTION:The Knoxville Jewish Alliance\nThe Knoxville Jewish Alliance Ca
 lendar\nhttps://jewishknoxville.org/calendar/ajcckja-offices-closed-christ
 mas-279210\n\nAJCC/KJA Offices CLOSED
DTSTART;TZID=America/New_York:20181225T000000
DTEND;TZID=America/New_York:20181226T235959
END:VEVENT
END:VCALENDAR
