BEGIN:VCALENDAR
PRODID:-//eluceo/ical//2.0/EN
VERSION:2.0
CALSCALE:GREGORIAN
BEGIN:VEVENT
UID:80564f771ba9bb043e09f4b4a2f26a56
DTSTAMP:20260421T184924Z
SUMMARY:AJCC/KJA Offices/AJCC Preschool CLOSED - Shemini Atzeret
DESCRIPTION:The Knoxville Jewish Alliance\nThe Knoxville Jewish Alliance Ca
 lendar\nhttps://jewishknoxville.org/calendar/ajcckja-officesajcc-preschool
 -closed-shemini-atzeret-279179\n\nShemini Atzeret
DTSTART;TZID=America/New_York:20181001T000000
DTEND;TZID=America/New_York:20181001T235959
END:VEVENT
END:VCALENDAR
