BEGIN:VCALENDAR
PRODID:-//eluceo/ical//2.0/EN
VERSION:2.0
CALSCALE:GREGORIAN
BEGIN:VEVENT
UID:6fa291937ee4cee65dc7ace7002de434
DTSTAMP:20260422T005526Z
SUMMARY:Business Office closed-HA
DESCRIPTION:The Knoxville Jewish Alliance\nThe Knoxville Jewish Alliance Ca
 lendar\nhttps://jewishknoxville.org/calendar/business-office-closed-282071
 \n\nOffice closed for Labor Day
DTSTART;TZID=America/New_York:20180903T000000
DTEND;TZID=America/New_York:20180903T235959
END:VEVENT
END:VCALENDAR
