BEGIN:VCALENDAR
PRODID:-//eluceo/ical//2.0/EN
VERSION:2.0
CALSCALE:GREGORIAN
BEGIN:VEVENT
UID:5b544ac4a5f872f1546fff4775cda2aa
DTSTAMP:20260423T075408Z
SUMMARY:Business Office Closed-HAS
DESCRIPTION:The Knoxville Jewish Alliance\nThe Knoxville Jewish Alliance Ca
 lendar\nhttps://jewishknoxville.org/calendar/business-office-closed-has\n\
 nHappy New Year!
DTSTART;TZID=America/New_York:20260101T000000
DTEND;TZID=America/New_York:20260101T235500
END:VEVENT
END:VCALENDAR
