BEGIN:VCALENDAR
PRODID:-//eluceo/ical//2.0/EN
VERSION:2.0
CALSCALE:GREGORIAN
BEGIN:VEVENT
UID:6328106bf67a94099f5a13b59d70720d
DTSTAMP:20260425T161608Z
SUMMARY:6:45-9:00pm - Camping under the Stars Overnight - KJDS
DESCRIPTION:The Knoxville Jewish Alliance\nThe Knoxville Jewish Alliance Ca
 lendar\nhttps://jewishknoxville.org/calendar/camping-under-the-stars-overn
 ight\n\nFamilies of KJDS - please join us to camp under the stars! 
DTSTART;TZID=America/New_York:20251115T184500
DTEND;TZID=America/New_York:20251116T090000
END:VEVENT
END:VCALENDAR
