BEGIN:VCALENDAR
PRODID:-//eluceo/ical//2.0/EN
VERSION:2.0
CALSCALE:GREGORIAN
BEGIN:VEVENT
UID:8ba76be0f17c4a827e60b39809dc24ad
DTSTAMP:20260425T204917Z
SUMMARY:11:30am - Chanukah Paint-a-Platter Luncheon - HAWL
DESCRIPTION:The Knoxville Jewish Alliance\nThe Knoxville Jewish Alliance Ca
 lendar\nhttps://jewishknoxville.org/calendar/chanukah-paint-a-platter-lunc
 heon-1755239258\n\nEvery Chanukah\, there’s that irresistible urge to ad
 d one more meaningful treasure to our holiday collection. This year\, why 
 not join in the fun and make it truly special with a Chanukah platter pain
 ted by you! Brighten your home with a one-of-a-kind creation that’s as m
 eaningful as it is beautiful. \nReserve your spot by November 30th—and l
 et us know about any food allergies when you RSVP
DTSTART;TZID=America/New_York:20251207T113000
DTEND;TZID=America/New_York:20251207T143000
END:VEVENT
END:VCALENDAR
