BEGIN:VCALENDAR
PRODID:-//eluceo/ical//2.0/EN
VERSION:2.0
CALSCALE:GREGORIAN
BEGIN:VEVENT
UID:a35b7ed608ec83c8fd6152a8b080347a
DTSTAMP:20260422T192804Z
SUMMARY:Congregation Kallah (Retreat) - HA
DESCRIPTION:The Knoxville Jewish Alliance\nThe Knoxville Jewish Alliance Ca
 lendar\nhttps://jewishknoxville.org/calendar/congregation-kallah-retreat-h
 a-282064\n\nLike the last Kallah\, this will be at Cumberland Falls State 
 Park in Kentucky on Friday through Sunday.
DTSTART;TZID=America/New_York:20190308T160000
DTEND;TZID=America/New_York:20190310T120000
END:VEVENT
END:VCALENDAR
