BEGIN:VCALENDAR
PRODID:-//eluceo/ical//2.0/EN
VERSION:2.0
CALSCALE:GREGORIAN
BEGIN:VEVENT
UID:6b75b6d9cc17dc5244c0186e32caaec9
DTSTAMP:20260422T023345Z
SUMMARY:Noon KJA Friendshippers - Sherrill Hills
DESCRIPTION:The Knoxville Jewish Alliance\nThe Knoxville Jewish Alliance Ca
 lendar\nhttps://jewishknoxville.org/calendar/december-2017-friendshippers\
 n\nPlease join us for this month’s Friendshippers program.  The Friends
 hippers group gets together once a month for lunch and entertainment.  Fr
 iendshippers is open to all—we don’t check IDs at the door!\n\n \n\nW
 ednesday\, December 20: Hanukkah Fun Sing-Along!\n\nProgram location: She
 rrill Hills Retirement Community\, 271 Moss Grove Blvd. Knoxville\, TN 379
 22\n\n \n\nThe luncheon begins at noon and the program begins at 1:00 PM.
   Lunch is $8.  There is no cost for attending the progra...
DTSTART;TZID=America/New_York:20171220T120000
DTEND;TZID=America/New_York:20171220T134500
END:VEVENT
END:VCALENDAR
