BEGIN:VCALENDAR
PRODID:-//eluceo/ical//2.0/EN
VERSION:2.0
CALSCALE:GREGORIAN
BEGIN:VEVENT
UID:bbfd48f9edf287cf84f125eea4c827ef
DTSTAMP:20260424T200907Z
SUMMARY:7pm - Erev Rosh Hashanah - JCOR
DESCRIPTION:The Knoxville Jewish Alliance\nThe Knoxville Jewish Alliance Ca
 lendar\nhttps://jewishknoxville.org/calendar/erev-rosh-hashana\n\nObservin
 g the first night of Rosh Hashanah
DTSTART;TZID=America/New_York:20250922T190000
DTEND;TZID=America/New_York:20250922T213000
END:VEVENT
END:VCALENDAR
