BEGIN:VCALENDAR
PRODID:-//eluceo/ical//2.0/EN
VERSION:2.0
CALSCALE:GREGORIAN
BEGIN:VEVENT
UID:1b65e6039d9360ed459c81d5901af59e
DTSTAMP:20260422T054750Z
SUMMARY:7:30p Erev Rosh Hashana Service-TBE
DESCRIPTION:The Knoxville Jewish Alliance\nThe Knoxville Jewish Alliance Ca
 lendar\nhttps://jewishknoxville.org/calendar/erev-rosh-hashana-service-tbe
 -206739\n\n7:30p Erev Rosh Hashana Service
DTSTART;TZID=America/New_York:20161002T193000
DTEND;TZID=America/New_York:20161002T213000
END:VEVENT
END:VCALENDAR
