BEGIN:VCALENDAR
PRODID:-//eluceo/ical//2.0/EN
VERSION:2.0
CALSCALE:GREGORIAN
BEGIN:VEVENT
UID:2a53bbcdbed35b11bb3cdb2a9d56eb99
DTSTAMP:20260424T041443Z
SUMMARY:A Historic Evening w/ Anne Frank's Step-Sister -Knoxville Civic Aud
 itorium
DESCRIPTION:The Knoxville Jewish Alliance\nThe Knoxville Jewish Alliance Ca
 lendar\nhttps://jewishknoxville.org/calendar/eva-schloss-anee-franks-steps
 ister-200874\n\nA Historic Evening with Mrs. Eva Schloss - Anne Frank's s
 tepsister\n\nKnoxville Civic Auditorium\n\n \n\nLearning from the Past\n\
 nLiving the Present\n\nLooking to the Future
DTSTART;TZID=America/New_York:20170221T000000
DTEND;TZID=America/New_York:20170221T235900
END:VEVENT
END:VCALENDAR
