BEGIN:VCALENDAR
PRODID:-//eluceo/ical//2.0/EN
VERSION:2.0
CALSCALE:GREGORIAN
BEGIN:VEVENT
UID:caf987db01fbac8b1e87dd48886662d8
DTSTAMP:20260421T104208Z
SUMMARY:First Day of School 2017 -KJDS
DESCRIPTION:The Knoxville Jewish Alliance\nThe Knoxville Jewish Alliance Ca
 lendar\nhttps://jewishknoxville.org/calendar/first-day-of-school-kjds\n\nF
 irst day of school for the 2017-2018 school year. It is a half day for stu
 dents at KJDS.
DTSTART;TZID=America/New_York:20170807T080000
DTEND;TZID=America/New_York:20170807T120000
END:VEVENT
END:VCALENDAR
