BEGIN:VCALENDAR
PRODID:-//eluceo/ical//2.0/EN
VERSION:2.0
CALSCALE:GREGORIAN
BEGIN:VEVENT
UID:a663842c84913c12348ff6b5e3226281
DTSTAMP:20260424T175638Z
SUMMARY:7:00 p.m. - Hadassah Bd Meeting  - AJCC
DESCRIPTION:The Knoxville Jewish Alliance\nThe Knoxville Jewish Alliance Ca
 lendar\nhttps://jewishknoxville.org/calendar/hadassah-bd-meeting-700-pm-aj
 cc-Nov\n\nHadassah Bd meeting 7:00 PM AJCC
DTSTART;TZID=America/New_York:20201118T190000
DTEND;TZID=America/New_York:20201118T200000
END:VEVENT
END:VCALENDAR
