BEGIN:VCALENDAR
PRODID:-//eluceo/ical//2.0/EN
VERSION:2.0
CALSCALE:GREGORIAN
BEGIN:VEVENT
UID:a475165dcced75f8d43f9c53b6013314
DTSTAMP:20260422T130119Z
SUMMARY:7p - Hadassah Board Meeting - Zoom
DESCRIPTION:The Knoxville Jewish Alliance\nThe Knoxville Jewish Alliance Ca
 lendar\nhttps://jewishknoxville.org/calendar/hadassah-bd-mtg-700-pm\n\nHad
 assah Board Meeting
DTSTART;TZID=America/New_York:20210721T190000
DTEND;TZID=America/New_York:20210721T200000
END:VEVENT
END:VCALENDAR
