BEGIN:VCALENDAR
PRODID:-//eluceo/ical//2.0/EN
VERSION:2.0
CALSCALE:GREGORIAN
BEGIN:VEVENT
UID:8a20cc182a514e59fc3c34aedf6c404a
DTSTAMP:20260424T164836Z
SUMMARY:Hadassah Board Meeting
DESCRIPTION:The Knoxville Jewish Alliance\nThe Knoxville Jewish Alliance Ca
 lendar\nhttps://jewishknoxville.org/calendar/hadassah-board-meeting-176348
 3530\n\nHadassah Board Meeting
DTSTART;TZID=America/New_York:20260318T190000
DTEND;TZID=America/New_York:20260318T210000
END:VEVENT
END:VCALENDAR
