BEGIN:VCALENDAR
PRODID:-//eluceo/ical//2.0/EN
VERSION:2.0
CALSCALE:GREGORIAN
BEGIN:VEVENT
UID:2c08b43bbfe4e9422d64d168a3cd29a4
DTSTAMP:20260420T113551Z
SUMMARY:Hadassah Board Meeting
DESCRIPTION:The Knoxville Jewish Alliance\nThe Knoxville Jewish Alliance Ca
 lendar\nhttps://jewishknoxville.org/calendar/hadassah-board-meeting-176739
 4700\n\nHadassah Board Meeting
DTSTART;TZID=America/New_York:20260415T190000
DTEND;TZID=America/New_York:20260415T210000
END:VEVENT
END:VCALENDAR
