BEGIN:VCALENDAR
PRODID:-//eluceo/ical//2.0/EN
VERSION:2.0
CALSCALE:GREGORIAN
BEGIN:VEVENT
UID:8f2e28410aded927bc850621d334479f
DTSTAMP:20260423T080209Z
SUMMARY:11:00 AM - 1:00 PM  - Hadassah Presents HMO Luncheon -
DESCRIPTION:The Knoxville Jewish Alliance\nThe Knoxville Jewish Alliance Ca
 lendar\nhttps://jewishknoxville.org/calendar/hadassah-presents-hmo-luncheo
 n-\n\nHadassah HMO Luncheon The Brain and Gut Connection. 
DTSTART;TZID=America/New_York:20231112T110000
DTEND;TZID=America/New_York:20231112T130000
END:VEVENT
END:VCALENDAR
