BEGIN:VCALENDAR
PRODID:-//eluceo/ical//2.0/EN
VERSION:2.0
CALSCALE:GREGORIAN
BEGIN:VEVENT
UID:461a40f6fafacddb51a1ddbe4b2ea4df
DTSTAMP:20260419T154716Z
SUMMARY:HAS Office Closed-Hoshanah Rabbah
DESCRIPTION:The Knoxville Jewish Alliance\nThe Knoxville Jewish Alliance Ca
 lendar\nhttps://jewishknoxville.org/calendar/has-office-closed-hoshanah-ra
 bbah\n\nOffice Cloed
DTSTART;TZID=America/New_York:20251013T000000
DTEND;TZID=America/New_York:20251013T235500
END:VEVENT
END:VCALENDAR
