BEGIN:VCALENDAR
PRODID:-//eluceo/ical//2.0/EN
VERSION:2.0
CALSCALE:GREGORIAN
BEGIN:VEVENT
UID:6563ba14450c130f1697dbfc9d409519
DTSTAMP:20260419T181340Z
SUMMARY:HAS Office Hours 10a-2p
DESCRIPTION:The Knoxville Jewish Alliance\nThe Knoxville Jewish Alliance Ca
 lendar\nhttps://jewishknoxville.org/calendar/has-office-hours-10a-2p\n\nHe
 ska Amuna's office hours are from 10am to 2 pm today through July3.
DTSTART;TZID=America/New_York:20250627T000000
DTEND;TZID=America/New_York:20250627T180000
END:VEVENT
END:VCALENDAR
