BEGIN:VCALENDAR
PRODID:-//eluceo/ical//2.0/EN
VERSION:2.0
CALSCALE:GREGORIAN
BEGIN:VEVENT
UID:9c028eda1865dedb95fcac263747fa8a
DTSTAMP:20260423T135537Z
SUMMARY:HAS Office Hours 10am-2pm
DESCRIPTION:The Knoxville Jewish Alliance\nThe Knoxville Jewish Alliance Ca
 lendar\nhttps://jewishknoxville.org/calendar/has-office-hours-10am-2pm\n\n
 Heska Amuna's office hours are from 10am to 2 pm today through July3.
DTSTART;TZID=America/New_York:20250630T000000
DTEND;TZID=America/New_York:20250630T180000
END:VEVENT
END:VCALENDAR
