BEGIN:VCALENDAR
PRODID:-//eluceo/ical//2.0/EN
VERSION:2.0
CALSCALE:GREGORIAN
BEGIN:VEVENT
UID:c2c0c7c283257fa09e41b7926b419e71
DTSTAMP:20260422T071717Z
SUMMARY:JCOR Book Club
DESCRIPTION:The Knoxville Jewish Alliance\nThe Knoxville Jewish Alliance Ca
 lendar\nhttps://jewishknoxville.org/calendar/jcor-book-club\n\nMonthly Boo
 k Club gathering. \n\nPhysical locations for Book Club may vary. Please c
 ontact Dale Rosenberg for more information.\n\nAugust Book is Klara's Trut
 h
DTSTART;TZID=America/New_York:20250827T183000
DTEND;TZID=America/New_York:20250827T213000
END:VEVENT
END:VCALENDAR
