BEGIN:VCALENDAR
PRODID:-//eluceo/ical//2.0/EN
VERSION:2.0
CALSCALE:GREGORIAN
BEGIN:VEVENT
UID:50330ab23c8b22a596a1e6dc9aa7ef86
DTSTAMP:20260425T020351Z
SUMMARY:6-8 - Hadassah: Jews and Comic Books
DESCRIPTION:The Knoxville Jewish Alliance\nThe Knoxville Jewish Alliance Ca
 lendar\nhttps://jewishknoxville.org/calendar/jews-and-comic-books-17546664
 36\n\nThis is a Hadassah event. Dale Rosenberg will be the presentor.
DTSTART;TZID=America/New_York:20250909T180000
DTEND;TZID=America/New_York:20250909T200000
END:VEVENT
END:VCALENDAR
