BEGIN:VCALENDAR
PRODID:-//eluceo/ical//2.0/EN
VERSION:2.0
CALSCALE:GREGORIAN
BEGIN:VEVENT
UID:484740911a1d48ff608c926d28901f2d
DTSTAMP:20260425T122152Z
SUMMARY:12-2pm - Shalom Hospice - JFS
DESCRIPTION:The Knoxville Jewish Alliance\nThe Knoxville Jewish Alliance Ca
 lendar\nhttps://jewishknoxville.org/calendar/jfs--shalom-hospice-175949945
 0\n\nMore information to come
DTSTART;TZID=America/New_York:20251103T120000
DTEND;TZID=America/New_York:20251103T140000
END:VEVENT
END:VCALENDAR
