BEGIN:VCALENDAR
PRODID:-//eluceo/ical//2.0/EN
VERSION:2.0
CALSCALE:GREGORIAN
BEGIN:VEVENT
UID:d08579141ef3fe3c0bc799651049e203
DTSTAMP:20260423T064704Z
SUMMARY:Noon KJA Friendshippers - Sherrill Hills
DESCRIPTION:The Knoxville Jewish Alliance\nThe Knoxville Jewish Alliance Ca
 lendar\nhttps://jewishknoxville.org/calendar/june-2017-friendshippers\n\nP
 lease join us for this month’s Friendshippers program.  The Friendshipp
 ers group gets together once a month for lunch and entertainment.  Friend
 shippers is open to all—we don’t check IDs at the door!\n\n \n\nWedne
 sday\, June 14: Alan Diskin of Radio Rewound.\n\nAlan Diskin will do a co
 ndensed version of his radio show\, Radio Rewound\, and talk about radio t
 hat was produced way back when.  Radio Rewound is a talk show\, sprinkled
  in with music\, commercials\,guests and topics\, transport...
DTSTART;TZID=America/New_York:20170614T120000
DTEND;TZID=America/New_York:20170614T133000
END:VEVENT
END:VCALENDAR
