BEGIN:VCALENDAR
PRODID:-//eluceo/ical//2.0/EN
VERSION:2.0
CALSCALE:GREGORIAN
BEGIN:VEVENT
UID:137c4ba7fc7ef36a35a4ace762d0e966
DTSTAMP:20260423T130753Z
SUMMARY:KJA Office & AJCC Preschool closed
DESCRIPTION:The Knoxville Jewish Alliance\nThe Knoxville Jewish Alliance Ca
 lendar\nhttps://jewishknoxville.org/calendar/kja-office-ajcc-preschool-clo
 sed1017\n\nAJCC Preschool & KJA Office closed in observance of Sukkot
DTSTART;TZID=America/New_York:20161017T000000
DTEND;TZID=America/New_York:20161017T235959
END:VEVENT
END:VCALENDAR
