BEGIN:VCALENDAR
PRODID:-//eluceo/ical//2.0/EN
VERSION:2.0
CALSCALE:GREGORIAN
BEGIN:VEVENT
UID:9acefff4958ca6f1a4c66277ba5816e7
DTSTAMP:20260426T021419Z
SUMMARY:KJA Office & AJCC Preschool closed
DESCRIPTION:The Knoxville Jewish Alliance\nThe Knoxville Jewish Alliance Ca
 lendar\nhttps://jewishknoxville.org/calendar/kja-office-ajcc-preschool-clo
 sed411\n\nKJA Office & AJCC Preschool closed in observance of the first tw
 o days of Pesach (Passover)
DTSTART;TZID=America/New_York:20170411T000000
DTEND;TZID=America/New_York:20170411T235959
END:VEVENT
END:VCALENDAR
