BEGIN:VCALENDAR
PRODID:-//eluceo/ical//2.0/EN
VERSION:2.0
CALSCALE:GREGORIAN
BEGIN:VEVENT
UID:2f196ecc6618c3fe535dec5f7521df44
DTSTAMP:20260419T220026Z
SUMMARY:KJA Shabbat - Temple Beth El
DESCRIPTION:The Knoxville Jewish Alliance\nThe Knoxville Jewish Alliance Ca
 lendar\nhttps://jewishknoxville.org/calendar/kja-shabbat-temple-beth-el201
 8-245714\n\nKJA Shabbat
DTSTART;TZID=America/New_York:20180202T000000
DTEND;TZID=America/New_York:20180202T114200
END:VEVENT
END:VCALENDAR
