BEGIN:VCALENDAR
PRODID:-//eluceo/ical//2.0/EN
VERSION:2.0
CALSCALE:GREGORIAN
BEGIN:VEVENT
UID:b187da862049805c8d487ea73dad2078
DTSTAMP:20260421T150253Z
SUMMARY:KJDS Family Shabbat
DESCRIPTION:The Knoxville Jewish Alliance\nThe Knoxville Jewish Alliance Ca
 lendar\nhttps://jewishknoxville.org/calendar/kjds-family-shabbat2\n\nKJDS 
 Family Shabbat at school 
DTSTART;TZID=America/New_York:20260313T000000
DTEND;TZID=America/New_York:20260313T235959
END:VEVENT
END:VCALENDAR
