BEGIN:VCALENDAR
PRODID:-//eluceo/ical//2.0/EN
VERSION:2.0
CALSCALE:GREGORIAN
BEGIN:VEVENT
UID:4fb28edc0ba92177685a3e1eefe697d0
DTSTAMP:20260426T013413Z
SUMMARY:KJDS Kid's Night Out  - tentative 2
DESCRIPTION:The Knoxville Jewish Alliance\nThe Knoxville Jewish Alliance Ca
 lendar\nhttps://jewishknoxville.org/calendar/kjds-kids-night-out2\n\nJanua
 ry 24 or 31 - TBD
DTSTART;TZID=America/New_York:20260131T000000
DTEND;TZID=America/New_York:20260131T235959
END:VEVENT
END:VCALENDAR
