BEGIN:VCALENDAR
PRODID:-//eluceo/ical//2.0/EN
VERSION:2.0
CALSCALE:GREGORIAN
BEGIN:VEVENT
UID:21800993be3402571321b5d2e8da75b3
DTSTAMP:20260423T233401Z
SUMMARY:4-5:30 PM KJDS PLAY
DESCRIPTION:The Knoxville Jewish Alliance\nThe Knoxville Jewish Alliance Ca
 lendar\nhttps://jewishknoxville.org/calendar/kjds-play\n\nThe Annual KJDS 
 Drama Performance of "Willy Wonka Jr." will take place at the Pellissippi 
 State campus. Tickets available at the door- $10. 
DTSTART;TZID=America/New_York:20190120T160000
DTEND;TZID=America/New_York:20190120T173000
END:VEVENT
END:VCALENDAR
