BEGIN:VCALENDAR
PRODID:-//eluceo/ical//2.0/EN
VERSION:2.0
CALSCALE:GREGORIAN
BEGIN:VEVENT
UID:f81558f1c90a9bc8c56d34251a1ca116
DTSTAMP:20260423T005138Z
SUMMARY:11am-2pm - Knoshville 2025
DESCRIPTION:The Knoxville Jewish Alliance\nThe Knoxville Jewish Alliance Ca
 lendar\nhttps://jewishknoxville.org/calendar/knoshville-2025\n\nThe 8th an
 nual Knoshville: A Jewish Food Festival brings together all Jewish communi
 ty organizations in the Knoxville and Oak Ridge area to share a variety of
  Jewish-themed cuisine with our greater community. The event’s name is a
  play on the Yiddish word “nosh\,” which means to snack or nibble. \n
 \nThis one-day event provides a flavor of Jewish and Israeli food and cult
 ure. We welcome you to come for the food and bring your kids to play in th
 e Kid Zone\, a beach-theme party with inflata...
DTSTART;TZID=America/New_York:20250504T000000
DTEND;TZID=America/New_York:20250504T235959
END:VEVENT
END:VCALENDAR
