BEGIN:VCALENDAR
PRODID:-//eluceo/ical//2.0/EN
VERSION:2.0
CALSCALE:GREGORIAN
BEGIN:VEVENT
UID:13839eb3f0745579807b13c645ff1ed3
DTSTAMP:20260422T143950Z
SUMMARY:11 a.m. - 2 p.m Knoshville Jewish Food Festival - AJCC Gym
DESCRIPTION:The Knoxville Jewish Alliance\nThe Knoxville Jewish Alliance Ca
 lendar\nhttps://jewishknoxville.org/calendar/knoshville-jewish-food-festiv
 al-2017-ajcc-gym-196219\n\n FOR IMMEDIATE RELEASE\n\nMay 16\, 2017\n\nCon
 tact:          Deborah Oleshansky\, 865-690-6343 or doleshansky@je
 wishknoxville.org\n\n                        Judith 
 Rosenberg\, 865-414-3925 or judith.rosenberg@gmail.com\n\n        
    \n\n \n\n“KNOSHVILLE” EVENT BRINGS JEWISH FOOD TO KNOXVILLE ON 
 JUNE 4! \n\n \n\nCommunity event to offer one-stop sampling of Jewish cui
 sine \n\n \n\nKNOXVILLE\, TN – You might be familiar with bagels and lo
 x\, or chal...
DTSTART;TZID=America/New_York:20170604T110000
DTEND;TZID=America/New_York:20170604T140000
END:VEVENT
END:VCALENDAR
