BEGIN:VCALENDAR
PRODID:-//eluceo/ical//2.0/EN
VERSION:2.0
CALSCALE:GREGORIAN
BEGIN:VEVENT
UID:0f8e18434ac9019efa3a93995c049e41
DTSTAMP:20260422T005737Z
SUMMARY:L&L: Victor Ashe
DESCRIPTION:The Knoxville Jewish Alliance\nThe Knoxville Jewish Alliance Ca
 lendar\nhttps://jewishknoxville.org/calendar/ll-victor-ashe-1765985799\n\n
 Victor Ashe was a four-term mayor (1988-2003) of Knoxville. Growing up in 
 Knoxville\, Mr. Ashe received a BA from Yale University and a JD from the 
 University of Tennessee Law School. He was elected to the Tennessee House 
 of Representatives in 1968 when he was only 23 years old serving for 6 yea
 rs\, and he served for 9 years in the State Senate. As Mayor\, Ashe stress
 ed diversity within his administration\; parks and greenways were another 
 highlight of his tenure. In 2004 Ashe was appointed U.S. ...
DTSTART;TZID=America/New_York:20260121T120000
DTEND;TZID=America/New_York:20260121T140000
END:VEVENT
END:VCALENDAR
