BEGIN:VCALENDAR
PRODID:-//eluceo/ical//2.0/EN
VERSION:2.0
CALSCALE:GREGORIAN
BEGIN:VEVENT
UID:fdc7bde97ea845ceb3ad1b2e6dd7655b
DTSTAMP:20260419T183416Z
SUMMARY:Noon KJA Friendshippers - Sherrill Hills
DESCRIPTION:The Knoxville Jewish Alliance\nThe Knoxville Jewish Alliance Ca
 lendar\nhttps://jewishknoxville.org/calendar/march-2019-friendshippers\n\n
 Our Wednesday\, March 13 Friendshippers program features a trivia “compe
 tition” led by Angela Grant from the Office on Aging.\n\nAll are welcome
 . You don’t have to be 55 and up\;\n\nwe don’t card at the door!\n\n 
 \n\nThis fun-filled program meets with lunch at noon and our Trivia Game s
 tarts at 1:00 p.m.\n\n \n\nSherrill Hills Retirement Community\,\n\n271 M
 oss Grove Blvd\, Knoxville 37922\n\n \n\nLunch is $8.00\, with no charge 
 for the program only.\n\nPlease RSVP to Laura Berry at 690...
DTSTART;TZID=America/New_York:20190313T120000
DTEND;TZID=America/New_York:20190313T134500
END:VEVENT
END:VCALENDAR
