BEGIN:VCALENDAR
PRODID:-//eluceo/ical//2.0/EN
VERSION:2.0
CALSCALE:GREGORIAN
BEGIN:VEVENT
UID:8790a087fb7967afa64d32399328714f
DTSTAMP:20260424T073734Z
SUMMARY:MCDC Camp Overnight
DESCRIPTION:The Knoxville Jewish Alliance\nThe Knoxville Jewish Alliance Ca
 lendar\nhttps://jewishknoxville.org/calendar/mcdc-camp-overnight-193292\n\
 nMCDC Camp Overnight
DTSTART;TZID=America/New_York:20160602T000000
DTEND;TZID=America/New_York:20160602T235959
END:VEVENT
END:VCALENDAR
