BEGIN:VCALENDAR
PRODID:-//eluceo/ical//2.0/EN
VERSION:2.0
CALSCALE:GREGORIAN
BEGIN:VEVENT
UID:1a60855ac8485f5800bd35719a43abeb
DTSTAMP:20260420T133728Z
SUMMARY:9:30a Mitzvah Day 2017 - AJCC
DESCRIPTION:The Knoxville Jewish Alliance\nThe Knoxville Jewish Alliance Ca
 lendar\nhttps://jewishknoxville.org/calendar/mitzvah-day-2017-ajcc-grounds
 -192155\n\n2017 Mitzvah Day
DTSTART;TZID=America/New_York:20170212T093000
DTEND;TZID=America/New_York:20170212T123000
END:VEVENT
END:VCALENDAR
