BEGIN:VCALENDAR
PRODID:-//eluceo/ical//2.0/EN
VERSION:2.0
CALSCALE:GREGORIAN
BEGIN:VEVENT
UID:a8ef8835726943507f523388ec7e688f
DTSTAMP:20260425T152320Z
SUMMARY:Noon - 1:00 p.m - Pickleball Beginner Clinic - AJCC Gym
DESCRIPTION:The Knoxville Jewish Alliance\nThe Knoxville Jewish Alliance Ca
 lendar\nhttps://jewishknoxville.org/calendar/noon-100-pm--pickleball-begin
 ner-clinic---ajcc-gym-211224\n\nPickleball Beginner Clinic
DTSTART;TZID=America/New_York:20161030T120000
DTEND;TZID=America/New_York:20161030T130000
END:VEVENT
END:VCALENDAR
