BEGIN:VCALENDAR
PRODID:-//eluceo/ical//2.0/EN
VERSION:2.0
CALSCALE:GREGORIAN
BEGIN:VEVENT
UID:c1c09c07c4f15c2f2325045d2dc55cad
DTSTAMP:20260419T220036Z
SUMMARY:Noon - 5:00 p.m. - HAS Women's Group - AJCC Orwitz Room
DESCRIPTION:The Knoxville Jewish Alliance\nThe Knoxville Jewish Alliance Ca
 lendar\nhttps://jewishknoxville.org/calendar/noon-500-pm--has-womens-group
 ---ajcc-orwitz-room-240410\n\nHeska Amuna Synagogue Women's Group Meeting
DTSTART;TZID=America/New_York:20170806T120000
DTEND;TZID=America/New_York:20170806T170000
END:VEVENT
END:VCALENDAR
