BEGIN:VCALENDAR
PRODID:-//eluceo/ical//2.0/EN
VERSION:2.0
CALSCALE:GREGORIAN
BEGIN:VEVENT
UID:50819bba21d1c2a52c3e7648d8cb9e86
DTSTAMP:20260424T141528Z
SUMMARY:Noon - KJA Friendshippers - Sherrill Hills Retirement Community
DESCRIPTION:The Knoxville Jewish Alliance\nThe Knoxville Jewish Alliance Ca
 lendar\nhttps://jewishknoxville.org/calendar/noon-kja-friendshippers--sher
 rill-hills-retirement-community-216423\n\nKJA Friendshippers\n\nWednesday\
 , January 18: \nA piano performance by Michael Burse\n\nBy popular demand
 \, Michael Burse is returning for a fun-filled Liberace-esque performance!
 \n\nProgram location:  Sherrill Hills Retirement Community\,\n\n271 Moss 
 Grove Blvd. Knoxville\, TN 37922\n\n \n\nThe luncheon begins at noon and 
 the program begins at 1:00 p.m. Lunch is $8.\n\nThere is no cost for atten
 ding the program alone.\n\n \n\nTransportation is available upon request
 —please have your ride r...
DTSTART;TZID=America/New_York:20170118T120000
DTEND;TZID=America/New_York:20170118T140000
END:VEVENT
END:VCALENDAR
