BEGIN:VCALENDAR
PRODID:-//eluceo/ical//2.0/EN
VERSION:2.0
CALSCALE:GREGORIAN
BEGIN:VEVENT
UID:d8431b525df573a776c6f5c37b747742
DTSTAMP:20260425T162509Z
SUMMARY:Noon- Model Seder with Special Friends and Pesach Play - KJDS
DESCRIPTION:The Knoxville Jewish Alliance\nThe Knoxville Jewish Alliance Ca
 lendar\nhttps://jewishknoxville.org/calendar/noon-model-seder-with-special
 -friends-and-pesach-play\n\nModel Seder with Special Friends from the comm
 unity. The 2nd-3rd grade Hebrew classes will perform a play. Students may 
 wear Holiday attire. 
DTSTART;TZID=America/New_York:20170406T120000
DTEND;TZID=America/New_York:20170406T133000
END:VEVENT
END:VCALENDAR
