BEGIN:VCALENDAR
PRODID:-//eluceo/ical//2.0/EN
VERSION:2.0
CALSCALE:GREGORIAN
BEGIN:VEVENT
UID:8d2da4c1d77028c80e1379eaae20311d
DTSTAMP:20260423T102840Z
SUMMARY:Parent/Teacher Conferences-AJCC Preschool
DESCRIPTION:The Knoxville Jewish Alliance\nThe Knoxville Jewish Alliance Ca
 lendar\nhttps://jewishknoxville.org/calendar/parent-conference-week-ajcc-p
 reschool\n\nParent/Teacher Conferences\n\nSign up for times with classroo
 m teachers
DTSTART;TZID=America/New_York:20161031T000000
DTEND;TZID=America/New_York:20161031T235959
END:VEVENT
END:VCALENDAR
