BEGIN:VCALENDAR
PRODID:-//eluceo/ical//2.0/EN
VERSION:2.0
CALSCALE:GREGORIAN
BEGIN:VEVENT
UID:eaaefe7611e625bf19e968adac8b18ad
DTSTAMP:20260424T164856Z
SUMMARY:Parent/Teacher Conferences-AJCC Preschool
DESCRIPTION:The Knoxville Jewish Alliance\nThe Knoxville Jewish Alliance Ca
 lendar\nhttps://jewishknoxville.org/calendar/parentteacher-conferences-ajc
 c-preschool\n\nParent/Teacher Conferences\n\nSign up with teachers
DTSTART;TZID=America/New_York:20160418T000500
DTEND;TZID=America/New_York:20160418T235959
END:VEVENT
END:VCALENDAR
