BEGIN:VCALENDAR
PRODID:-//eluceo/ical//2.0/EN
VERSION:2.0
CALSCALE:GREGORIAN
BEGIN:VEVENT
UID:03d6723641018ec61f6db5be89b95280
DTSTAMP:20260420T011452Z
SUMMARY:POOL CLOSES AT 4:00 p.m - Home Swim Meet -  AJCC Pool
DESCRIPTION:The Knoxville Jewish Alliance\nThe Knoxville Jewish Alliance Ca
 lendar\nhttps://jewishknoxville.org/calendar/pool-closes-at-400-pm-home-sw
 im-meet---ajcc-pool-227240\n\nHome Swim Meet
DTSTART;TZID=America/New_York:20170620T160000
DTEND;TZID=America/New_York:20170620T220000
END:VEVENT
END:VCALENDAR
