BEGIN:VCALENDAR
PRODID:-//eluceo/ical//2.0/EN
VERSION:2.0
CALSCALE:GREGORIAN
BEGIN:VEVENT
UID:a1d8ea0561bbfb3e60ff93d982a97185
DTSTAMP:20260423T165647Z
SUMMARY:POOL CLOSES AT 4:00 p.m - Home Swim Meet -  AJCC Pool
DESCRIPTION:The Knoxville Jewish Alliance\nThe Knoxville Jewish Alliance Ca
 lendar\nhttps://jewishknoxville.org/calendar/pool-closes-at-400-pm-home-sw
 im-meet---ajcc-pool3-227242\n\nHome Swim Meet\n\nAJCC Pool
DTSTART;TZID=America/New_York:20170718T160000
DTEND;TZID=America/New_York:20170718T220000
END:VEVENT
END:VCALENDAR
