BEGIN:VCALENDAR
PRODID:-//eluceo/ical//2.0/EN
VERSION:2.0
CALSCALE:GREGORIAN
BEGIN:VEVENT
UID:2024af2949231b18b9afffe744a9b043
DTSTAMP:20260422T075949Z
SUMMARY:Pool Opening Day
DESCRIPTION:The Knoxville Jewish Alliance\nThe Knoxville Jewish Alliance Ca
 lendar\nhttps://jewishknoxville.org/calendar/pool-opening-day\n\nOpening d
 ay for the pool at the Allen Rosen Aquatic Center!
DTSTART;TZID=America/New_York:20250524T000000
DTEND;TZID=America/New_York:20250524T235959
END:VEVENT
END:VCALENDAR
