BEGIN:VCALENDAR
PRODID:-//eluceo/ical//2.0/EN
VERSION:2.0
CALSCALE:GREGORIAN
BEGIN:VEVENT
UID:19ce8add5bf4f1bfb385e1fec736fc04
DTSTAMP:20260421T140350Z
SUMMARY:Preschool at AJCC Closed
DESCRIPTION:The Knoxville Jewish Alliance\nThe Knoxville Jewish Alliance Ca
 lendar\nhttps://jewishknoxville.org/calendar/preschool-at-ajcc-closed\n\nC
 losed for Yom Kippur
DTSTART;TZID=America/New_York:20221005T000000
DTEND;TZID=America/New_York:20221005T235959
END:VEVENT
END:VCALENDAR
