BEGIN:VCALENDAR
PRODID:-//eluceo/ical//2.0/EN
VERSION:2.0
CALSCALE:GREGORIAN
BEGIN:VEVENT
UID:ecd918de1bff2db666253003df8d972a
DTSTAMP:20260424T062212Z
SUMMARY:Rabbi A.J. Rosenbaum in Knoxville-HAS
DESCRIPTION:The Knoxville Jewish Alliance\nThe Knoxville Jewish Alliance Ca
 lendar\nhttps://jewishknoxville.org/calendar/rabbi-aj-rosenbaum-in-knoxvil
 le-has\n\nRabbi Rosenbaum will be in Knoxville.
DTSTART;TZID=America/New_York:20260111T000000
DTEND;TZID=America/New_York:20260118T180000
END:VEVENT
END:VCALENDAR
