BEGIN:VCALENDAR
PRODID:-//eluceo/ical//2.0/EN
VERSION:2.0
CALSCALE:GREGORIAN
BEGIN:VEVENT
UID:6594ef4d32d5ef433aa1c1ee9634074b
DTSTAMP:20260419T185054Z
SUMMARY:7:30p Rabbi & Religous Services Committee-HA
DESCRIPTION:The Knoxville Jewish Alliance\nThe Knoxville Jewish Alliance Ca
 lendar\nhttps://jewishknoxville.org/calendar/rabbi-religous-services-commi
 ttee-148617\n\nRegular monthly meeting of the RRS Committee
DTSTART;TZID=America/New_York:20150618T193000
DTEND;TZID=America/New_York:20150618T213000
END:VEVENT
END:VCALENDAR
