BEGIN:VCALENDAR
PRODID:-//eluceo/ical//2.0/EN
VERSION:2.0
CALSCALE:GREGORIAN
BEGIN:VEVENT
UID:87edb7a6d5acbfca271e0e014d216531
DTSTAMP:20260423T194040Z
SUMMARY:Rabbi's Study Session-Ask the Rabbi-following morning services-JCOR
DESCRIPTION:The Knoxville Jewish Alliance\nThe Knoxville Jewish Alliance Ca
 lendar\nhttps://jewishknoxville.org/calendar/rabbis-study-session-ask-the-
 rabbi-following-morning-services-jcor\n\nJune 25\, 2016\n\n\nRabbi's Study
  Session: “Ask the Rabbi” (after the morning Services)
DTSTART;TZID=America/New_York:20160625T103000
DTEND;TZID=America/New_York:20160625T120000
END:VEVENT
END:VCALENDAR
